BEGIN:VCALENDAR
VERSION:2.0
PRODID:-//La Passerelle - ECPv6.6.4//NONSGML v1.0//EN
CALSCALE:GREGORIAN
METHOD:PUBLISH
X-WR-CALNAME:La Passerelle
X-ORIGINAL-URL:https://www.centresocialquetigny.fr
X-WR-CALDESC:évènements pour La Passerelle
REFRESH-INTERVAL;VALUE=DURATION:PT1H
X-Robots-Tag:noindex
X-PUBLISHED-TTL:PT1H
BEGIN:VTIMEZONE
TZID:Europe/Paris
BEGIN:DAYLIGHT
TZOFFSETFROM:+0100
TZOFFSETTO:+0200
TZNAME:CEST
DTSTART:20260329T010000
END:DAYLIGHT
BEGIN:STANDARD
TZOFFSETFROM:+0200
TZOFFSETTO:+0100
TZNAME:CET
DTSTART:20261025T010000
END:STANDARD
END:VTIMEZONE
BEGIN:VEVENT
DTSTART;VALUE=DATE:20260406
DTEND;VALUE=DATE:20260420
DTSTAMP:20260419T181450
CREATED:20260331T124434Z
LAST-MODIFIED:20260408T095221Z
UID:17622-1775433600-1776643199@www.centresocialquetigny.fr
SUMMARY:VACANCES 🏖️
DESCRIPTION:LE CENTRE SOCIAL RESTE OUVERT. \nPAS D’ACTIVITÉ PENDANT LES VACANCES.
URL:https://www.centresocialquetigny.fr/evenement/vacance-%f0%9f%8f%96%ef%b8%8f/
END:VEVENT
BEGIN:VEVENT
DTSTART;VALUE=DATE:20260418
DTEND;VALUE=DATE:20260427
DTSTAMP:20260419T181450
CREATED:20260331T094924Z
LAST-MODIFIED:20260331T094924Z
UID:17606-1776470400-1777247999@www.centresocialquetigny.fr
SUMMARY:EXPOSITION AQUARELLE/ENCADREMENT 🎨🖌
DESCRIPTION:DU 18 AU 26 AVRIL 2026 À LA SALLE NELSON MANDELA\, SE DÉROULA L’EXPOSITION AQUARELLE ENCADREMENT \nGRATUIT \n 
URL:https://www.centresocialquetigny.fr/evenement/exposition-aquarelle-encadrement-%f0%9f%8e%a8%f0%9f%96%8c/
END:VEVENT
BEGIN:VEVENT
DTSTART;TZID=Europe/Paris:20260418T140000
DTEND;TZID=Europe/Paris:20260426T180000
DTSTAMP:20260419T181450
CREATED:20260408T094903Z
LAST-MODIFIED:20260408T094903Z
UID:17651-1776520800-1777226400@www.centresocialquetigny.fr
SUMMARY:EXPOSITION AQUARELLE ET ENCADREMENT D’ART
DESCRIPTION:EVENEMENT : EXPO AQUARELLE ET ENCADREMENT D’ART\n\n\nLIEU : SALLE NELSON MANDELA-AVENUE DU CROMOIS A QUETIGNY\n\n\nDATE : 18 AU 26 AVRIL\nHORAIRES : SEMAINE 15H-18H ET WEEK-END 14H-18H\n\n\nANIMÉ PAR : \n\n\nDESCRIPTIF DE L’EVENEMENT : 12ème exposition des deux ateliers animés par Rémy Rémond pour l’aquarelle et Marie-France Delzant pour l’Encadrement créatif.\n\n\nINFORMATIONS DIVERSES :
URL:https://www.centresocialquetigny.fr/evenement/exposition-aquarelle-et-encadrement-dart/
END:VEVENT
END:VCALENDAR